BEGIN:VCALENDAR
VERSION:2.0
PRODID:-//Rogue Workforce Partnership - ECPv6.15.20//NONSGML v1.0//EN
CALSCALE:GREGORIAN
METHOD:PUBLISH
X-ORIGINAL-URL:https://rogueworkforce.org
X-WR-CALDESC:Events for Rogue Workforce Partnership
REFRESH-INTERVAL;VALUE=DURATION:PT1H
X-Robots-Tag:noindex
X-PUBLISHED-TTL:PT1H
BEGIN:VTIMEZONE
TZID:America/Los_Angeles
BEGIN:DAYLIGHT
TZOFFSETFROM:-0800
TZOFFSETTO:-0700
TZNAME:PDT
DTSTART:20250309T100000
END:DAYLIGHT
BEGIN:STANDARD
TZOFFSETFROM:-0700
TZOFFSETTO:-0800
TZNAME:PST
DTSTART:20251102T090000
END:STANDARD
BEGIN:DAYLIGHT
TZOFFSETFROM:-0800
TZOFFSETTO:-0700
TZNAME:PDT
DTSTART:20260308T100000
END:DAYLIGHT
BEGIN:STANDARD
TZOFFSETFROM:-0700
TZOFFSETTO:-0800
TZNAME:PST
DTSTART:20261101T090000
END:STANDARD
BEGIN:DAYLIGHT
TZOFFSETFROM:-0800
TZOFFSETTO:-0700
TZNAME:PDT
DTSTART:20270314T100000
END:DAYLIGHT
BEGIN:STANDARD
TZOFFSETFROM:-0700
TZOFFSETTO:-0800
TZNAME:PST
DTSTART:20271107T090000
END:STANDARD
END:VTIMEZONE
BEGIN:VEVENT
DTSTART;TZID=America/Los_Angeles:20260515T083000
DTEND;TZID=America/Los_Angeles:20260717T220000
DTSTAMP:20260423T151227
CREATED:20260302T192114Z
LAST-MODIFIED:20260303T220351Z
UID:23750-1778833800-1784325600@rogueworkforce.org
SUMMARY:Rogue Workforce Natural Resources Partnership
DESCRIPTION:Join regional employers\, educators\, and workforce and economic development professionals at the Rogue Workforce Natural Resources Partnership meeting to strengthen Southern Oregon’s natural resources sector. Rogue Workforce Natural Resources Partnership is part of Rogue Workforce Partnership’s sector strategy initiative\, focused on expanding family-wage career pathways\, supporting workforce training\, and driving innovation in one of our region’s key traded-sector industries. \nEmail Tyler@rogueworkforce.org to learn more about joining a sector group
URL:https://rogueworkforce.org/event/rogue-workforce-natural-resources-partnership/
LOCATION:Rogue Workforce Partnership\, 37 N Central Ave\, Medford\, OR\, 97501\, United States
CATEGORIES:Employer & Business Engagement,Meetings & Governance
ORGANIZER;CN="Rogue Workforce Partnership":MAILTO:info@rogueworkforce.org
END:VEVENT
END:VCALENDAR