BEGIN:VCALENDAR
VERSION:2.0
PRODID:-//Rogue Workforce Partnership - ECPv6.15.20//NONSGML v1.0//EN
CALSCALE:GREGORIAN
METHOD:PUBLISH
X-WR-CALNAME:Rogue Workforce Partnership
X-ORIGINAL-URL:https://rogueworkforce.org
X-WR-CALDESC:Events for Rogue Workforce Partnership
REFRESH-INTERVAL;VALUE=DURATION:PT1H
X-Robots-Tag:noindex
X-PUBLISHED-TTL:PT1H
BEGIN:VTIMEZONE
TZID:America/Los_Angeles
BEGIN:DAYLIGHT
TZOFFSETFROM:-0800
TZOFFSETTO:-0700
TZNAME:PDT
DTSTART:20250309T100000
END:DAYLIGHT
BEGIN:STANDARD
TZOFFSETFROM:-0700
TZOFFSETTO:-0800
TZNAME:PST
DTSTART:20251102T090000
END:STANDARD
BEGIN:DAYLIGHT
TZOFFSETFROM:-0800
TZOFFSETTO:-0700
TZNAME:PDT
DTSTART:20260308T100000
END:DAYLIGHT
BEGIN:STANDARD
TZOFFSETFROM:-0700
TZOFFSETTO:-0800
TZNAME:PST
DTSTART:20261101T090000
END:STANDARD
BEGIN:DAYLIGHT
TZOFFSETFROM:-0800
TZOFFSETTO:-0700
TZNAME:PDT
DTSTART:20270314T100000
END:DAYLIGHT
BEGIN:STANDARD
TZOFFSETFROM:-0700
TZOFFSETTO:-0800
TZNAME:PST
DTSTART:20271107T090000
END:STANDARD
END:VTIMEZONE
BEGIN:VEVENT
DTSTART;TZID=America/Los_Angeles:20260423T090000
DTEND;TZID=America/Los_Angeles:20260423T150000
DTSTAMP:20260423T103742
CREATED:20260302T191515Z
LAST-MODIFIED:20260302T191736Z
UID:23746-1776934800-1776956400@rogueworkforce.org
SUMMARY:Careers in Gear
DESCRIPTION:This event brings together more than 2000 students and 120 employers in Southern Oregon to show off the jobs and businesses that await them upon graduation. Share resources\, show off your business and coolest jobs\, and catch the attention of youth job-seekers as they prepare to enter the workforce!
URL:https://rogueworkforce.org/event/careers-in-gear/
LOCATION:Jackson County Expo\, 21 Peninger Rd\, Central Point\, OR\, 97502\, United States
CATEGORIES:Employer & Business Engagement,Special Events,Youth Programs
END:VEVENT
BEGIN:VEVENT
DTSTART;TZID=America/Los_Angeles:20260313T090000
DTEND;TZID=America/Los_Angeles:20260313T223000
DTSTAMP:20260423T103742
CREATED:20260302T190906Z
LAST-MODIFIED:20260302T190906Z
UID:23743-1773392400-1773441000@rogueworkforce.org
SUMMARY:Rogue Advanced Manufacturing Partnership
DESCRIPTION:Join regional employers\, educators\, and workforce and economic development professionals at the Rogue Advanced Manufacturing Partnership (RAMP) meeting to strengthen Southern Oregon’s advanced manufacturing sector. RAMP is part of Rogue Workforce Partnership’s sector strategy initiative\, focused on expanding family-wage career pathways\, supporting workforce training\, and driving innovation in one of our region’s key traded-sector industries. \nEmail Tyler@rogueworkforce.org to learn more about joining a sector group
URL:https://rogueworkforce.org/event/rogue-advanced-manufacturing-partnership/
LOCATION:Work Sharp\, 210 E Hersey St\, Ashland\, OR\, 97520\, United States
CATEGORIES:Employer & Business Engagement,Meetings & Governance
ORGANIZER;CN="Rogue Workforce Partnership":MAILTO:info@rogueworkforce.org
END:VEVENT
END:VCALENDAR